BEGIN:VCALENDAR
VERSION:2.0
PRODID:-//Sch&uuml;tzengesellschaft B&ouml;rnste e.V. - ECPv6.15.20//NONSGML v1.0//EN
CALSCALE:GREGORIAN
METHOD:PUBLISH
X-WR-CALNAME:Sch&uuml;tzengesellschaft B&ouml;rnste e.V.
X-ORIGINAL-URL:https://schuetzengesellschaft-boernste.de
X-WR-CALDESC:Veranstaltungen für Sch&uuml;tzengesellschaft B&ouml;rnste e.V.
REFRESH-INTERVAL;VALUE=DURATION:PT1H
X-Robots-Tag:noindex
X-PUBLISHED-TTL:PT1H
BEGIN:VTIMEZONE
TZID:Europe/Berlin
BEGIN:DAYLIGHT
TZOFFSETFROM:+0100
TZOFFSETTO:+0200
TZNAME:CEST
DTSTART:20250330T010000
END:DAYLIGHT
BEGIN:STANDARD
TZOFFSETFROM:+0200
TZOFFSETTO:+0100
TZNAME:CET
DTSTART:20251026T010000
END:STANDARD
BEGIN:DAYLIGHT
TZOFFSETFROM:+0100
TZOFFSETTO:+0200
TZNAME:CEST
DTSTART:20260329T010000
END:DAYLIGHT
BEGIN:STANDARD
TZOFFSETFROM:+0200
TZOFFSETTO:+0100
TZNAME:CET
DTSTART:20261025T010000
END:STANDARD
BEGIN:DAYLIGHT
TZOFFSETFROM:+0100
TZOFFSETTO:+0200
TZNAME:CEST
DTSTART:20270328T010000
END:DAYLIGHT
BEGIN:STANDARD
TZOFFSETFROM:+0200
TZOFFSETTO:+0100
TZNAME:CET
DTSTART:20271031T010000
END:STANDARD
END:VTIMEZONE
BEGIN:VEVENT
DTSTART;TZID=Europe/Berlin:20260207T193000
DTEND;TZID=Europe/Berlin:20260207T233000
DTSTAMP:20260422T195705
CREATED:20251115T112142Z
LAST-MODIFIED:20251203T210124Z
UID:19-1770492600-1770507000@schuetzengesellschaft-boernste.de
SUMMARY:Generalversammlung
DESCRIPTION:
URL:https://schuetzengesellschaft-boernste.de/veranstaltung/generalversammlung/
LOCATION:Haus Waldfrieden\, Börnste 20\, Dülmen\, 48249\, Germany
CATEGORIES:Für Alle
END:VEVENT
END:VCALENDAR