BEGIN:VCALENDAR
VERSION:2.0
PRODID:-//Sch&uuml;tzengesellschaft B&ouml;rnste e.V. - ECPv6.15.20//NONSGML v1.0//EN
CALSCALE:GREGORIAN
METHOD:PUBLISH
X-WR-CALNAME:Sch&uuml;tzengesellschaft B&ouml;rnste e.V.
X-ORIGINAL-URL:https://schuetzengesellschaft-boernste.de
X-WR-CALDESC:Veranstaltungen für Sch&uuml;tzengesellschaft B&ouml;rnste e.V.
REFRESH-INTERVAL;VALUE=DURATION:PT1H
X-Robots-Tag:noindex
X-PUBLISHED-TTL:PT1H
BEGIN:VTIMEZONE
TZID:Europe/Berlin
BEGIN:DAYLIGHT
TZOFFSETFROM:+0100
TZOFFSETTO:+0200
TZNAME:CEST
DTSTART:20250330T010000
END:DAYLIGHT
BEGIN:STANDARD
TZOFFSETFROM:+0200
TZOFFSETTO:+0100
TZNAME:CET
DTSTART:20251026T010000
END:STANDARD
BEGIN:DAYLIGHT
TZOFFSETFROM:+0100
TZOFFSETTO:+0200
TZNAME:CEST
DTSTART:20260329T010000
END:DAYLIGHT
BEGIN:STANDARD
TZOFFSETFROM:+0200
TZOFFSETTO:+0100
TZNAME:CET
DTSTART:20261025T010000
END:STANDARD
BEGIN:DAYLIGHT
TZOFFSETFROM:+0100
TZOFFSETTO:+0200
TZNAME:CEST
DTSTART:20270328T010000
END:DAYLIGHT
BEGIN:STANDARD
TZOFFSETFROM:+0200
TZOFFSETTO:+0100
TZNAME:CET
DTSTART:20271031T010000
END:STANDARD
END:VTIMEZONE
BEGIN:VEVENT
DTSTART;TZID=Europe/Berlin:20260508T180000
DTEND;TZID=Europe/Berlin:20260511T233000
DTSTAMP:20260422T183447
CREATED:20251115T111809Z
LAST-MODIFIED:20251204T112206Z
UID:13-1778263200-1778542200@schuetzengesellschaft-boernste.de
SUMMARY:275-jähriges Jubiläumsschützenfest Börnste
DESCRIPTION:Freitag – Eintritt  \n18:00 Uhr Gottesdienst im Festzelt \nim Anschluss: Festball mit DJ Sven Bresser \nSamstag – Eintritt \n13:00 Uhr Antreten am Haus Waldfrieden \n15:00 Uhr Kaiserschießen\, Proklamation & Kaiserball mit der Band Motion \nSonntag – Eintritt frei \n13:30 Uhr Antreten am Festzelt\, Abholung des Kaierpaares mit Musikbegleitung vom Musikverein Asbeck \n17:30 Uhr Proklamation des neuen Königspaares \n20:00 Uhr Festball mit 3M Musikservice DJ Markus Mast \nMontag – Eintritt frei \n14:30 Uhr Antreten am Festzelt\, Totengedenken\, Kaffeetrinken\, Kinderbelustigung\, Verlosung. \nDanach: Festausklang mit 3M Musikservice DJ Markus Mast \n  \nBei Bedarf ist das Festzelt beheizt.
URL:https://schuetzengesellschaft-boernste.de/veranstaltung/275-jaehriges-jubilaeumsschuetzenfest-boernste/
LOCATION:Schützenplatz Börnste\, Schützenplatz Börnste\, Dülmen\, 48249\, Germany
CATEGORIES:Für Alle
END:VEVENT
END:VCALENDAR