BEGIN:VCALENDAR
VERSION:2.0
PRODID:-//Sch&uuml;tzengesellschaft B&ouml;rnste e.V. - ECPv6.15.20//NONSGML v1.0//EN
CALSCALE:GREGORIAN
METHOD:PUBLISH
X-WR-CALNAME:Sch&uuml;tzengesellschaft B&ouml;rnste e.V.
X-ORIGINAL-URL:https://schuetzengesellschaft-boernste.de
X-WR-CALDESC:Veranstaltungen für Sch&uuml;tzengesellschaft B&ouml;rnste e.V.
REFRESH-INTERVAL;VALUE=DURATION:PT1H
X-Robots-Tag:noindex
X-PUBLISHED-TTL:PT1H
BEGIN:VTIMEZONE
TZID:Europe/Berlin
BEGIN:DAYLIGHT
TZOFFSETFROM:+0100
TZOFFSETTO:+0200
TZNAME:CEST
DTSTART:20250330T010000
END:DAYLIGHT
BEGIN:STANDARD
TZOFFSETFROM:+0200
TZOFFSETTO:+0100
TZNAME:CET
DTSTART:20251026T010000
END:STANDARD
BEGIN:DAYLIGHT
TZOFFSETFROM:+0100
TZOFFSETTO:+0200
TZNAME:CEST
DTSTART:20260329T010000
END:DAYLIGHT
BEGIN:STANDARD
TZOFFSETFROM:+0200
TZOFFSETTO:+0100
TZNAME:CET
DTSTART:20261025T010000
END:STANDARD
BEGIN:DAYLIGHT
TZOFFSETFROM:+0100
TZOFFSETTO:+0200
TZNAME:CEST
DTSTART:20270328T010000
END:DAYLIGHT
BEGIN:STANDARD
TZOFFSETFROM:+0200
TZOFFSETTO:+0100
TZNAME:CET
DTSTART:20271031T010000
END:STANDARD
END:VTIMEZONE
BEGIN:VEVENT
DTSTART;TZID=Europe/Berlin:20260305T143000
DTEND;TZID=Europe/Berlin:20260305T200000
DTSTAMP:20260422T170107
CREATED:20260209T122603Z
LAST-MODIFIED:20260209T122618Z
UID:8435-1772721000-1772740800@schuetzengesellschaft-boernste.de
SUMMARY:Seniorennachmittag
DESCRIPTION:
URL:https://schuetzengesellschaft-boernste.de/veranstaltung/seniorennachmittag/
LOCATION:Haus Waldfrieden\, Börnste 20\, Dülmen\, 48249\, Germany
END:VEVENT
BEGIN:VEVENT
DTSTART;TZID=Europe/Berlin:20260305T180000
DTEND;TZID=Europe/Berlin:20260305T200000
DTSTAMP:20260422T170107
CREATED:20260209T123158Z
LAST-MODIFIED:20260209T123158Z
UID:8434-1772733600-1772740800@schuetzengesellschaft-boernste.de
SUMMARY:Infoabend zum Jubiläum für die alten Königspaare
DESCRIPTION:Alle Infos für die ehemaligen Majestäten rund um dass Jubiläum. \nEingeladen sind alle alten Königspaare sowie Partner. \nAnmeldung erforderlich\, bei Bernhard Gövert\, Markus Schlaut\, beim jeweils zuständigen Vorstandsmitglied\, bzw. per Mail an info@schuetzengesellschaft-boernste.de \n 
URL:https://schuetzengesellschaft-boernste.de/veranstaltung/infoabend-zum-jubilaeum-fuer-die-alten-koenigspaare/
LOCATION:Haus Waldfrieden\, Börnste 20\, Dülmen\, 48249\, Germany
END:VEVENT
BEGIN:VEVENT
DTSTART;TZID=Europe/Berlin:20260314T090000
DTEND;TZID=Europe/Berlin:20260314T140000
DTSTAMP:20260422T170107
CREATED:20251115T115348Z
LAST-MODIFIED:20260220T070726Z
UID:49-1773478800-1773496800@schuetzengesellschaft-boernste.de
SUMMARY:Aktion "Sauberes Dülmen"
DESCRIPTION:
URL:https://schuetzengesellschaft-boernste.de/veranstaltung/aktion-sauberes-duelmen/
LOCATION:Schützenplatz Börnste\, Schützenplatz Börnste\, Dülmen\, 48249\, Germany
CATEGORIES:Für Alle
END:VEVENT
END:VCALENDAR